BEGIN:VCALENDAR
PRODID:-//Inverse inc./SOGo 5.12.7//EN
VERSION:2.0
BEGIN:VEVENT
UID:236370-69E9DA00-1-3E7D8500
SUMMARY:weekly→custom
CLASS:PUBLIC
RRULE:FREQ=WEEKLY;COUNT=2;BYDAY=FR
TRANSP:OPAQUE
DTSTART;VALUE=DATE:20260424
DTEND;VALUE=DATE:20260425
X-SOGO-COMPONENT-CREATED-BY:jens.holzkaemper@hu-berlin.de
CREATED:20260423T083759Z
DTSTAMP:20260423T083759Z
LAST-MODIFIED:20260423T083836Z
RDATE;VALUE=DATE:20260425
END:VEVENT
END:VCALENDAR
