BEGIN:VCALENDAR
PRODID:-//Test//My Test 1.0//NL
VERSION:2.0
CALSCALE:GREGORIAN
BEGIN:VEVENT
DTSTAMP:20190513T111013Z
DTSTART:20190514T130000
DTEND:20190514T140000
SUMMARY:Test Event
TZID:Europe/Amsterdam
UID:8af05413-417e-4b7c-9126-67d9d96f20c3
LOCATION:Testlocation 1\, 1000AA  Amsterdam
TEL:012-3456789
GEO:52.373056;4.891389
END:VEVENT
END:VCALENDAR
